BEGIN:VCALENDAR
VERSION:2.0
PRODID:-//Centre on Knowledge Governance - ECPv6.15.18//NONSGML v1.0//EN
CALSCALE:GREGORIAN
METHOD:PUBLISH
X-ORIGINAL-URL:https://test.knowledgegov.org
X-WR-CALDESC:Events for Centre on Knowledge Governance
REFRESH-INTERVAL;VALUE=DURATION:PT1H
X-Robots-Tag:noindex
X-PUBLISHED-TTL:PT1H
BEGIN:VTIMEZONE
TZID:UTC
BEGIN:STANDARD
TZOFFSETFROM:+0000
TZOFFSETTO:+0000
TZNAME:UTC
DTSTART:20250101T000000
END:STANDARD
END:VTIMEZONE
BEGIN:VEVENT
DTSTART;TZID=UTC:20260202T090000
DTEND;TZID=UTC:20260207T170000
DTSTAMP:20260419T182510
CREATED:20251006T105549Z
LAST-MODIFIED:20251006T105549Z
UID:10000043-1770022800-1770483600@test.knowledgegov.org
SUMMARY:World Health Organization Executive Board: 158th Session
DESCRIPTION:The Executive Board advises the World Health Assembly in May.
URL:https://test.knowledgegov.org/event/world-health-organization-executive-board-158th-session/
LOCATION:Geneva\, Geneva\, 1202\, Switzerland
CATEGORIES:* All Events,* All WHO meetings,Executive Board
END:VEVENT
BEGIN:VEVENT
DTSTART;TZID=UTC:20260209T090000
DTEND;TZID=UTC:20260214T170000
DTSTAMP:20260419T182510
CREATED:20251006T104628Z
LAST-MODIFIED:20251006T104628Z
UID:10000040-1770627600-1771088400@test.knowledgegov.org
SUMMARY:Fifth meeting of the Intergovernmental Working Group on the WHO Pandemic Agreement
DESCRIPTION:The Intergovernmental Working Group on the WHO Pandemic Agreement is tasked with establishing an instrument for Pathogen Access and Benefit Sharing as an annex to the Pandemic Agreement.
URL:https://test.knowledgegov.org/event/fifth-meeting-of-the-intergovernmental-working-group-on-the-who-pandemic-agreement/
LOCATION:Geneva\, Geneva\, 1202\, Switzerland
CATEGORIES:* All Events,* All WHO meetings,IGWG on Pandemic Access and Benefit Sharing (PABS),Pandemic Agreement
END:VEVENT
BEGIN:VEVENT
DTSTART;TZID=UTC:20260323T090000
DTEND;TZID=UTC:20260328T170000
DTSTAMP:20260419T182510
CREATED:20251006T104850Z
LAST-MODIFIED:20251006T104850Z
UID:10000041-1774256400-1774717200@test.knowledgegov.org
SUMMARY:Sixth meeting of the Intergovernmental Working Group on the WHO Pandemic Agreement
DESCRIPTION:The Intergovernmental Working Group on the WHO Pandemic Agreement is tasked with establishing an instrument for Pathogen Access and Benefit Sharing as an annex to the Pandemic Agreement.
URL:https://test.knowledgegov.org/event/sixth-meeting-of-the-intergovernmental-working-group-on-the-who-pandemic-agreement/
LOCATION:Geneva\, Geneva\, 1202\, Switzerland
CATEGORIES:* All Events,* All WHO meetings,IGWG on Pandemic Access and Benefit Sharing (PABS)
END:VEVENT
BEGIN:VEVENT
DTSTART;TZID=UTC:20260518T083000
DTEND;TZID=UTC:20260523T170000
DTSTAMP:20260419T182510
CREATED:20251006T105348Z
LAST-MODIFIED:20251006T105348Z
UID:10000042-1779093000-1779555600@test.knowledgegov.org
SUMMARY:Seventy-ninth World Health Assembly
DESCRIPTION:The World Health Assembly (WHA) is the annual decision-making meeting of the World Health Organization.
URL:https://test.knowledgegov.org/event/seventy-ninth-world-health-assembly/
LOCATION:Geneva\, Geneva\, 1202\, Switzerland
CATEGORIES:* All Events,* All WHO meetings,World Health Assembly
END:VEVENT
END:VCALENDAR